BEGIN:VCALENDAR
VERSION:2.0
PRODID:-//InnsKulturFenster - ECPv6.15.20//NONSGML v1.0//EN
CALSCALE:GREGORIAN
METHOD:PUBLISH
X-WR-CALNAME:InnsKulturFenster
X-ORIGINAL-URL:https://www.innskulturfenster.de
X-WR-CALDESC:Veranstaltungen für InnsKulturFenster
REFRESH-INTERVAL;VALUE=DURATION:PT1H
X-Robots-Tag:noindex
X-PUBLISHED-TTL:PT1H
BEGIN:VTIMEZONE
TZID:Europe/Vienna
BEGIN:DAYLIGHT
TZOFFSETFROM:+0100
TZOFFSETTO:+0200
TZNAME:CEST
DTSTART:20220327T010000
END:DAYLIGHT
BEGIN:STANDARD
TZOFFSETFROM:+0200
TZOFFSETTO:+0100
TZNAME:CET
DTSTART:20221030T010000
END:STANDARD
BEGIN:DAYLIGHT
TZOFFSETFROM:+0100
TZOFFSETTO:+0200
TZNAME:CEST
DTSTART:20230326T010000
END:DAYLIGHT
BEGIN:STANDARD
TZOFFSETFROM:+0200
TZOFFSETTO:+0100
TZNAME:CET
DTSTART:20231029T010000
END:STANDARD
BEGIN:DAYLIGHT
TZOFFSETFROM:+0100
TZOFFSETTO:+0200
TZNAME:CEST
DTSTART:20240331T010000
END:DAYLIGHT
BEGIN:STANDARD
TZOFFSETFROM:+0200
TZOFFSETTO:+0100
TZNAME:CET
DTSTART:20241027T010000
END:STANDARD
END:VTIMEZONE
BEGIN:VEVENT
DTSTART;TZID=Europe/Vienna:20230711T193000
DTEND;TZID=Europe/Vienna:20230711T210000
DTSTAMP:20260419T145847
CREATED:20230214T161615Z
LAST-MODIFIED:20230719T121620Z
UID:10000397-1689103800-1689109200@www.innskulturfenster.de
SUMMARY:Klangbaden/ThetaTranceTrommeln
DESCRIPTION:…und es ist wieder soweit es ist Traumzeit\nRunterfahren\, abschalten\, loslassen\, auftanken\, Tiefenentspannung erleben\, ganz Da-Sein\, annehmen was IST –\nKlang-Improvisationen mit der afrikanischen Harfe (Ngoni)\, Flöten\, Singstimme\, Saitenspiel\, Monochord\, Sansula\, Gong\, Klangschalen und Schamanentrommel\nHeilsames Erleben von Klängen und Musik\nWir tauchen ein in die Innenwelten der Seele. Hier und Jetzt\, Inspiration des Momentes. Die daraus geborene Klang-Musik als tragendes\, schützendes und gleichzeitig heilsames Medium dient dabei als sichere Verbindung zwischen Außen und Innen und macht Verbundenheit jenseits der Worte erfahrbar. Tiefe Entspannung auf körperlicher\, geistiger und seelischer Ebene ermöglicht Regeneration\, Stressreduktion\, Transformation und stärkt das Immunsystem.\nDie Klangreisen lösen in sanften Phasen die Strukturiertheit des Alltagsbewusstseins auf und öffnen den Raum für die Unberechenbarkeit\, die im Klingen des Gongs ihren Höhepunkt findet. Dabei kann es zu befreienden Entgrenzungserfahrungen kommen\, die im Anschluss durch allmähliche Wiedergewinnung von Struktur und Rhythmus ihren Ausgleich finden.\nHINWEIS: Dieses Angebot ist für Menschen mit bestimmten psychischen Erkrankungen\, bei denen tranceinduzierende Klänge z.B. retraumatisierend wirken oder Schübe auslösen können\, nicht geeignet. Bitte sprechen Sie mich im Zweifelsfall vorher an. \nEine Teilnehmerin sagt:\n„Ich fühle mich wie auf Wolken getragen\, die Klänge der schönen Musik entführen mich und lassen meiner Phantasie freien Lauf. Ich vergesse alles um mich herum und genieße die schöne Zeit.“\nMitzubringen: eine Matte\, eine Decke\, eine Tasse.\nZeit: jeden zweiten Montag im Monat 19:30 Uhr – 21:00 Uhr\nOrt: Yoga-Zen-trum im Kulturhaus – bei der Schänke zum schwarzen Schaf – Höchfelden 7\n94152 Neuhaus am Inn\nKursgebühr: 25\,- Euro / 5er Karte 110\,- Euro – Vereinsmitglieder 20\,- Euro/ 5er Karte 90\,- Euro\nDie Teilnehmerzahl ist begrenzt\, bitte rechtzeitig anmelden unter: Tel. 0179/24 36 222
URL:https://www.innskulturfenster.de/veranstaltung-detail/klangbaden-thetatrancetrommeln/2023-07-11/
LOCATION:Yoga-Zen-Trum\, Höchfelden 7\, Neuhaus am Inn\, 94152\, Deutschland
CATEGORIES:Klangbaden,Workshop
ATTACH;FMTTYPE=image/webp:https://www.innskulturfenster.de/wp-content/uploads/2023/02/sound-ga85979933_1920-e1676392288208.webp
END:VEVENT
BEGIN:VEVENT
DTSTART;TZID=Europe/Vienna:20230710T193000
DTEND;TZID=Europe/Vienna:20230710T223000
DTSTAMP:20260419T145847
CREATED:20230214T155555Z
LAST-MODIFIED:20230223T161439Z
UID:10000335-1689017400-1689028200@www.innskulturfenster.de
SUMMARY:LACHYoga
DESCRIPTION:Immer was zu lachen.\nWer lacht\, fühlt sich lebendig und strahlt Freude aus.\nLachen hat jede Menge positive Auswirkungen auf deinen Körper und deinen Geist.\nKomm und erleb es einfach.\nDie nachweislich ausgeschütteten Glückshormone aktivieren Körper\, Geist und Seele. Unser Körper wird optimal mit Sauerstoff versorgt. Stress und Anspannungen lösen sich. Lachen ist\nUrlaub für die Seele. Es ist für Jung und Alt eine wunderbare Möglichkeit\, Hektik aus Beruf und Alltag hinter sich zu lassen. Und lachend neue Kraft und Lebensfreude zu tanken.\nDie Lachyoga-Session dauert ca. eine Stunde und beinhaltet Lach-\, Klatsch\, Dehn- und Atemübungen\, eine Lachmeditation und eine angeleitete Entspannung. Ein kleine Einführung in das Lachyoga ist immer mit dabei. \nJeder kann mitmachen und mitlachen. \nZeit: jeden zweiten Montag im Monat 19:30 Uhr – 20:30 Uhr\nOrt: Yoga-Zen-trum im Kulturhaus – bei der Schänke zum schwarzen Schaf – Höchfelden 7\n94152 Neuhaus am Inn\nKursgebühr: 15\,- Euro / 5er Karte 50\,- Euro – Vereinsmitglieder 10\,- Euro/ 5er Karte 35\,- Euro\nDie Teilnehmerzahl ist begrenzt\, bitte rechtzeitig anmelden unter: Tel. 0179/24 36 222
URL:https://www.innskulturfenster.de/veranstaltung-detail/lachyoga-2/2023-07-10/
LOCATION:Yoga-Zen-Trum\, Höchfelden 7\, Neuhaus am Inn\, 94152\, Deutschland
CATEGORIES:LACHYoga,Workshop
ATTACH;FMTTYPE=image/webp:https://www.innskulturfenster.de/wp-content/uploads/2023/02/laugh-gede3b3fc9_1920-e1676390531467.webp
END:VEVENT
BEGIN:VEVENT
DTSTART;TZID=Europe/Vienna:20230613T193000
DTEND;TZID=Europe/Vienna:20230613T210000
DTSTAMP:20260419T145847
CREATED:20230214T161615Z
LAST-MODIFIED:20230719T121620Z
UID:10000396-1686684600-1686690000@www.innskulturfenster.de
SUMMARY:Klangbaden/ThetaTranceTrommeln
DESCRIPTION:…und es ist wieder soweit es ist Traumzeit\nRunterfahren\, abschalten\, loslassen\, auftanken\, Tiefenentspannung erleben\, ganz Da-Sein\, annehmen was IST –\nKlang-Improvisationen mit der afrikanischen Harfe (Ngoni)\, Flöten\, Singstimme\, Saitenspiel\, Monochord\, Sansula\, Gong\, Klangschalen und Schamanentrommel\nHeilsames Erleben von Klängen und Musik\nWir tauchen ein in die Innenwelten der Seele. Hier und Jetzt\, Inspiration des Momentes. Die daraus geborene Klang-Musik als tragendes\, schützendes und gleichzeitig heilsames Medium dient dabei als sichere Verbindung zwischen Außen und Innen und macht Verbundenheit jenseits der Worte erfahrbar. Tiefe Entspannung auf körperlicher\, geistiger und seelischer Ebene ermöglicht Regeneration\, Stressreduktion\, Transformation und stärkt das Immunsystem.\nDie Klangreisen lösen in sanften Phasen die Strukturiertheit des Alltagsbewusstseins auf und öffnen den Raum für die Unberechenbarkeit\, die im Klingen des Gongs ihren Höhepunkt findet. Dabei kann es zu befreienden Entgrenzungserfahrungen kommen\, die im Anschluss durch allmähliche Wiedergewinnung von Struktur und Rhythmus ihren Ausgleich finden.\nHINWEIS: Dieses Angebot ist für Menschen mit bestimmten psychischen Erkrankungen\, bei denen tranceinduzierende Klänge z.B. retraumatisierend wirken oder Schübe auslösen können\, nicht geeignet. Bitte sprechen Sie mich im Zweifelsfall vorher an. \nEine Teilnehmerin sagt:\n„Ich fühle mich wie auf Wolken getragen\, die Klänge der schönen Musik entführen mich und lassen meiner Phantasie freien Lauf. Ich vergesse alles um mich herum und genieße die schöne Zeit.“\nMitzubringen: eine Matte\, eine Decke\, eine Tasse.\nZeit: jeden zweiten Montag im Monat 19:30 Uhr – 21:00 Uhr\nOrt: Yoga-Zen-trum im Kulturhaus – bei der Schänke zum schwarzen Schaf – Höchfelden 7\n94152 Neuhaus am Inn\nKursgebühr: 25\,- Euro / 5er Karte 110\,- Euro – Vereinsmitglieder 20\,- Euro/ 5er Karte 90\,- Euro\nDie Teilnehmerzahl ist begrenzt\, bitte rechtzeitig anmelden unter: Tel. 0179/24 36 222
URL:https://www.innskulturfenster.de/veranstaltung-detail/klangbaden-thetatrancetrommeln/2023-06-13/
LOCATION:Yoga-Zen-Trum\, Höchfelden 7\, Neuhaus am Inn\, 94152\, Deutschland
CATEGORIES:Klangbaden,Workshop
ATTACH;FMTTYPE=image/webp:https://www.innskulturfenster.de/wp-content/uploads/2023/02/sound-ga85979933_1920-e1676392288208.webp
END:VEVENT
BEGIN:VEVENT
DTSTART;TZID=Europe/Vienna:20230612T193000
DTEND;TZID=Europe/Vienna:20230612T223000
DTSTAMP:20260419T145847
CREATED:20230214T155555Z
LAST-MODIFIED:20230223T161439Z
UID:10000334-1686598200-1686609000@www.innskulturfenster.de
SUMMARY:LACHYoga
DESCRIPTION:Immer was zu lachen.\nWer lacht\, fühlt sich lebendig und strahlt Freude aus.\nLachen hat jede Menge positive Auswirkungen auf deinen Körper und deinen Geist.\nKomm und erleb es einfach.\nDie nachweislich ausgeschütteten Glückshormone aktivieren Körper\, Geist und Seele. Unser Körper wird optimal mit Sauerstoff versorgt. Stress und Anspannungen lösen sich. Lachen ist\nUrlaub für die Seele. Es ist für Jung und Alt eine wunderbare Möglichkeit\, Hektik aus Beruf und Alltag hinter sich zu lassen. Und lachend neue Kraft und Lebensfreude zu tanken.\nDie Lachyoga-Session dauert ca. eine Stunde und beinhaltet Lach-\, Klatsch\, Dehn- und Atemübungen\, eine Lachmeditation und eine angeleitete Entspannung. Ein kleine Einführung in das Lachyoga ist immer mit dabei. \nJeder kann mitmachen und mitlachen. \nZeit: jeden zweiten Montag im Monat 19:30 Uhr – 20:30 Uhr\nOrt: Yoga-Zen-trum im Kulturhaus – bei der Schänke zum schwarzen Schaf – Höchfelden 7\n94152 Neuhaus am Inn\nKursgebühr: 15\,- Euro / 5er Karte 50\,- Euro – Vereinsmitglieder 10\,- Euro/ 5er Karte 35\,- Euro\nDie Teilnehmerzahl ist begrenzt\, bitte rechtzeitig anmelden unter: Tel. 0179/24 36 222
URL:https://www.innskulturfenster.de/veranstaltung-detail/lachyoga-2/2023-06-12/
LOCATION:Yoga-Zen-Trum\, Höchfelden 7\, Neuhaus am Inn\, 94152\, Deutschland
CATEGORIES:LACHYoga,Workshop
ATTACH;FMTTYPE=image/webp:https://www.innskulturfenster.de/wp-content/uploads/2023/02/laugh-gede3b3fc9_1920-e1676390531467.webp
END:VEVENT
BEGIN:VEVENT
DTSTART;TZID=Europe/Vienna:20230509T193000
DTEND;TZID=Europe/Vienna:20230509T210000
DTSTAMP:20260419T145847
CREATED:20230214T161615Z
LAST-MODIFIED:20230719T121620Z
UID:10000395-1683660600-1683666000@www.innskulturfenster.de
SUMMARY:Klangbaden/ThetaTranceTrommeln
DESCRIPTION:…und es ist wieder soweit es ist Traumzeit\nRunterfahren\, abschalten\, loslassen\, auftanken\, Tiefenentspannung erleben\, ganz Da-Sein\, annehmen was IST –\nKlang-Improvisationen mit der afrikanischen Harfe (Ngoni)\, Flöten\, Singstimme\, Saitenspiel\, Monochord\, Sansula\, Gong\, Klangschalen und Schamanentrommel\nHeilsames Erleben von Klängen und Musik\nWir tauchen ein in die Innenwelten der Seele. Hier und Jetzt\, Inspiration des Momentes. Die daraus geborene Klang-Musik als tragendes\, schützendes und gleichzeitig heilsames Medium dient dabei als sichere Verbindung zwischen Außen und Innen und macht Verbundenheit jenseits der Worte erfahrbar. Tiefe Entspannung auf körperlicher\, geistiger und seelischer Ebene ermöglicht Regeneration\, Stressreduktion\, Transformation und stärkt das Immunsystem.\nDie Klangreisen lösen in sanften Phasen die Strukturiertheit des Alltagsbewusstseins auf und öffnen den Raum für die Unberechenbarkeit\, die im Klingen des Gongs ihren Höhepunkt findet. Dabei kann es zu befreienden Entgrenzungserfahrungen kommen\, die im Anschluss durch allmähliche Wiedergewinnung von Struktur und Rhythmus ihren Ausgleich finden.\nHINWEIS: Dieses Angebot ist für Menschen mit bestimmten psychischen Erkrankungen\, bei denen tranceinduzierende Klänge z.B. retraumatisierend wirken oder Schübe auslösen können\, nicht geeignet. Bitte sprechen Sie mich im Zweifelsfall vorher an. \nEine Teilnehmerin sagt:\n„Ich fühle mich wie auf Wolken getragen\, die Klänge der schönen Musik entführen mich und lassen meiner Phantasie freien Lauf. Ich vergesse alles um mich herum und genieße die schöne Zeit.“\nMitzubringen: eine Matte\, eine Decke\, eine Tasse.\nZeit: jeden zweiten Montag im Monat 19:30 Uhr – 21:00 Uhr\nOrt: Yoga-Zen-trum im Kulturhaus – bei der Schänke zum schwarzen Schaf – Höchfelden 7\n94152 Neuhaus am Inn\nKursgebühr: 25\,- Euro / 5er Karte 110\,- Euro – Vereinsmitglieder 20\,- Euro/ 5er Karte 90\,- Euro\nDie Teilnehmerzahl ist begrenzt\, bitte rechtzeitig anmelden unter: Tel. 0179/24 36 222
URL:https://www.innskulturfenster.de/veranstaltung-detail/klangbaden-thetatrancetrommeln/2023-05-09/
LOCATION:Yoga-Zen-Trum\, Höchfelden 7\, Neuhaus am Inn\, 94152\, Deutschland
CATEGORIES:Klangbaden,Workshop
ATTACH;FMTTYPE=image/webp:https://www.innskulturfenster.de/wp-content/uploads/2023/02/sound-ga85979933_1920-e1676392288208.webp
END:VEVENT
BEGIN:VEVENT
DTSTART;TZID=Europe/Vienna:20230508T193000
DTEND;TZID=Europe/Vienna:20230508T223000
DTSTAMP:20260419T145847
CREATED:20230214T155555Z
LAST-MODIFIED:20230223T161439Z
UID:10000333-1683574200-1683585000@www.innskulturfenster.de
SUMMARY:LACHYoga
DESCRIPTION:Immer was zu lachen.\nWer lacht\, fühlt sich lebendig und strahlt Freude aus.\nLachen hat jede Menge positive Auswirkungen auf deinen Körper und deinen Geist.\nKomm und erleb es einfach.\nDie nachweislich ausgeschütteten Glückshormone aktivieren Körper\, Geist und Seele. Unser Körper wird optimal mit Sauerstoff versorgt. Stress und Anspannungen lösen sich. Lachen ist\nUrlaub für die Seele. Es ist für Jung und Alt eine wunderbare Möglichkeit\, Hektik aus Beruf und Alltag hinter sich zu lassen. Und lachend neue Kraft und Lebensfreude zu tanken.\nDie Lachyoga-Session dauert ca. eine Stunde und beinhaltet Lach-\, Klatsch\, Dehn- und Atemübungen\, eine Lachmeditation und eine angeleitete Entspannung. Ein kleine Einführung in das Lachyoga ist immer mit dabei. \nJeder kann mitmachen und mitlachen. \nZeit: jeden zweiten Montag im Monat 19:30 Uhr – 20:30 Uhr\nOrt: Yoga-Zen-trum im Kulturhaus – bei der Schänke zum schwarzen Schaf – Höchfelden 7\n94152 Neuhaus am Inn\nKursgebühr: 15\,- Euro / 5er Karte 50\,- Euro – Vereinsmitglieder 10\,- Euro/ 5er Karte 35\,- Euro\nDie Teilnehmerzahl ist begrenzt\, bitte rechtzeitig anmelden unter: Tel. 0179/24 36 222
URL:https://www.innskulturfenster.de/veranstaltung-detail/lachyoga-2/2023-05-08/
LOCATION:Yoga-Zen-Trum\, Höchfelden 7\, Neuhaus am Inn\, 94152\, Deutschland
CATEGORIES:LACHYoga,Workshop
ATTACH;FMTTYPE=image/webp:https://www.innskulturfenster.de/wp-content/uploads/2023/02/laugh-gede3b3fc9_1920-e1676390531467.webp
END:VEVENT
BEGIN:VEVENT
DTSTART;TZID=Europe/Vienna:20230411T193000
DTEND;TZID=Europe/Vienna:20230411T210000
DTSTAMP:20260419T145847
CREATED:20230214T161615Z
LAST-MODIFIED:20230719T121620Z
UID:10000394-1681241400-1681246800@www.innskulturfenster.de
SUMMARY:Klangbaden/ThetaTranceTrommeln
DESCRIPTION:…und es ist wieder soweit es ist Traumzeit\nRunterfahren\, abschalten\, loslassen\, auftanken\, Tiefenentspannung erleben\, ganz Da-Sein\, annehmen was IST –\nKlang-Improvisationen mit der afrikanischen Harfe (Ngoni)\, Flöten\, Singstimme\, Saitenspiel\, Monochord\, Sansula\, Gong\, Klangschalen und Schamanentrommel\nHeilsames Erleben von Klängen und Musik\nWir tauchen ein in die Innenwelten der Seele. Hier und Jetzt\, Inspiration des Momentes. Die daraus geborene Klang-Musik als tragendes\, schützendes und gleichzeitig heilsames Medium dient dabei als sichere Verbindung zwischen Außen und Innen und macht Verbundenheit jenseits der Worte erfahrbar. Tiefe Entspannung auf körperlicher\, geistiger und seelischer Ebene ermöglicht Regeneration\, Stressreduktion\, Transformation und stärkt das Immunsystem.\nDie Klangreisen lösen in sanften Phasen die Strukturiertheit des Alltagsbewusstseins auf und öffnen den Raum für die Unberechenbarkeit\, die im Klingen des Gongs ihren Höhepunkt findet. Dabei kann es zu befreienden Entgrenzungserfahrungen kommen\, die im Anschluss durch allmähliche Wiedergewinnung von Struktur und Rhythmus ihren Ausgleich finden.\nHINWEIS: Dieses Angebot ist für Menschen mit bestimmten psychischen Erkrankungen\, bei denen tranceinduzierende Klänge z.B. retraumatisierend wirken oder Schübe auslösen können\, nicht geeignet. Bitte sprechen Sie mich im Zweifelsfall vorher an. \nEine Teilnehmerin sagt:\n„Ich fühle mich wie auf Wolken getragen\, die Klänge der schönen Musik entführen mich und lassen meiner Phantasie freien Lauf. Ich vergesse alles um mich herum und genieße die schöne Zeit.“\nMitzubringen: eine Matte\, eine Decke\, eine Tasse.\nZeit: jeden zweiten Montag im Monat 19:30 Uhr – 21:00 Uhr\nOrt: Yoga-Zen-trum im Kulturhaus – bei der Schänke zum schwarzen Schaf – Höchfelden 7\n94152 Neuhaus am Inn\nKursgebühr: 25\,- Euro / 5er Karte 110\,- Euro – Vereinsmitglieder 20\,- Euro/ 5er Karte 90\,- Euro\nDie Teilnehmerzahl ist begrenzt\, bitte rechtzeitig anmelden unter: Tel. 0179/24 36 222
URL:https://www.innskulturfenster.de/veranstaltung-detail/klangbaden-thetatrancetrommeln/2023-04-11/
LOCATION:Yoga-Zen-Trum\, Höchfelden 7\, Neuhaus am Inn\, 94152\, Deutschland
CATEGORIES:Klangbaden,Workshop
ATTACH;FMTTYPE=image/webp:https://www.innskulturfenster.de/wp-content/uploads/2023/02/sound-ga85979933_1920-e1676392288208.webp
END:VEVENT
BEGIN:VEVENT
DTSTART;TZID=Europe/Vienna:20230410T193000
DTEND;TZID=Europe/Vienna:20230410T223000
DTSTAMP:20260419T145847
CREATED:20230214T155555Z
LAST-MODIFIED:20230223T161439Z
UID:10000332-1681155000-1681165800@www.innskulturfenster.de
SUMMARY:LACHYoga
DESCRIPTION:Immer was zu lachen.\nWer lacht\, fühlt sich lebendig und strahlt Freude aus.\nLachen hat jede Menge positive Auswirkungen auf deinen Körper und deinen Geist.\nKomm und erleb es einfach.\nDie nachweislich ausgeschütteten Glückshormone aktivieren Körper\, Geist und Seele. Unser Körper wird optimal mit Sauerstoff versorgt. Stress und Anspannungen lösen sich. Lachen ist\nUrlaub für die Seele. Es ist für Jung und Alt eine wunderbare Möglichkeit\, Hektik aus Beruf und Alltag hinter sich zu lassen. Und lachend neue Kraft und Lebensfreude zu tanken.\nDie Lachyoga-Session dauert ca. eine Stunde und beinhaltet Lach-\, Klatsch\, Dehn- und Atemübungen\, eine Lachmeditation und eine angeleitete Entspannung. Ein kleine Einführung in das Lachyoga ist immer mit dabei. \nJeder kann mitmachen und mitlachen. \nZeit: jeden zweiten Montag im Monat 19:30 Uhr – 20:30 Uhr\nOrt: Yoga-Zen-trum im Kulturhaus – bei der Schänke zum schwarzen Schaf – Höchfelden 7\n94152 Neuhaus am Inn\nKursgebühr: 15\,- Euro / 5er Karte 50\,- Euro – Vereinsmitglieder 10\,- Euro/ 5er Karte 35\,- Euro\nDie Teilnehmerzahl ist begrenzt\, bitte rechtzeitig anmelden unter: Tel. 0179/24 36 222
URL:https://www.innskulturfenster.de/veranstaltung-detail/lachyoga-2/2023-04-10/
LOCATION:Yoga-Zen-Trum\, Höchfelden 7\, Neuhaus am Inn\, 94152\, Deutschland
CATEGORIES:LACHYoga,Workshop
ATTACH;FMTTYPE=image/webp:https://www.innskulturfenster.de/wp-content/uploads/2023/02/laugh-gede3b3fc9_1920-e1676390531467.webp
END:VEVENT
BEGIN:VEVENT
DTSTART;TZID=Europe/Vienna:20230314T193000
DTEND;TZID=Europe/Vienna:20230314T210000
DTSTAMP:20260419T145847
CREATED:20230214T161615Z
LAST-MODIFIED:20230719T121620Z
UID:10000393-1678822200-1678827600@www.innskulturfenster.de
SUMMARY:Klangbaden/ThetaTranceTrommeln
DESCRIPTION:…und es ist wieder soweit es ist Traumzeit\nRunterfahren\, abschalten\, loslassen\, auftanken\, Tiefenentspannung erleben\, ganz Da-Sein\, annehmen was IST –\nKlang-Improvisationen mit der afrikanischen Harfe (Ngoni)\, Flöten\, Singstimme\, Saitenspiel\, Monochord\, Sansula\, Gong\, Klangschalen und Schamanentrommel\nHeilsames Erleben von Klängen und Musik\nWir tauchen ein in die Innenwelten der Seele. Hier und Jetzt\, Inspiration des Momentes. Die daraus geborene Klang-Musik als tragendes\, schützendes und gleichzeitig heilsames Medium dient dabei als sichere Verbindung zwischen Außen und Innen und macht Verbundenheit jenseits der Worte erfahrbar. Tiefe Entspannung auf körperlicher\, geistiger und seelischer Ebene ermöglicht Regeneration\, Stressreduktion\, Transformation und stärkt das Immunsystem.\nDie Klangreisen lösen in sanften Phasen die Strukturiertheit des Alltagsbewusstseins auf und öffnen den Raum für die Unberechenbarkeit\, die im Klingen des Gongs ihren Höhepunkt findet. Dabei kann es zu befreienden Entgrenzungserfahrungen kommen\, die im Anschluss durch allmähliche Wiedergewinnung von Struktur und Rhythmus ihren Ausgleich finden.\nHINWEIS: Dieses Angebot ist für Menschen mit bestimmten psychischen Erkrankungen\, bei denen tranceinduzierende Klänge z.B. retraumatisierend wirken oder Schübe auslösen können\, nicht geeignet. Bitte sprechen Sie mich im Zweifelsfall vorher an. \nEine Teilnehmerin sagt:\n„Ich fühle mich wie auf Wolken getragen\, die Klänge der schönen Musik entführen mich und lassen meiner Phantasie freien Lauf. Ich vergesse alles um mich herum und genieße die schöne Zeit.“\nMitzubringen: eine Matte\, eine Decke\, eine Tasse.\nZeit: jeden zweiten Montag im Monat 19:30 Uhr – 21:00 Uhr\nOrt: Yoga-Zen-trum im Kulturhaus – bei der Schänke zum schwarzen Schaf – Höchfelden 7\n94152 Neuhaus am Inn\nKursgebühr: 25\,- Euro / 5er Karte 110\,- Euro – Vereinsmitglieder 20\,- Euro/ 5er Karte 90\,- Euro\nDie Teilnehmerzahl ist begrenzt\, bitte rechtzeitig anmelden unter: Tel. 0179/24 36 222
URL:https://www.innskulturfenster.de/veranstaltung-detail/klangbaden-thetatrancetrommeln/2023-03-14/
LOCATION:Yoga-Zen-Trum\, Höchfelden 7\, Neuhaus am Inn\, 94152\, Deutschland
CATEGORIES:Klangbaden,Workshop
ATTACH;FMTTYPE=image/webp:https://www.innskulturfenster.de/wp-content/uploads/2023/02/sound-ga85979933_1920-e1676392288208.webp
END:VEVENT
BEGIN:VEVENT
DTSTART;TZID=Europe/Vienna:20230313T193000
DTEND;TZID=Europe/Vienna:20230313T223000
DTSTAMP:20260419T145847
CREATED:20230214T155555Z
LAST-MODIFIED:20230223T161439Z
UID:10000331-1678735800-1678746600@www.innskulturfenster.de
SUMMARY:LACHYoga
DESCRIPTION:Immer was zu lachen.\nWer lacht\, fühlt sich lebendig und strahlt Freude aus.\nLachen hat jede Menge positive Auswirkungen auf deinen Körper und deinen Geist.\nKomm und erleb es einfach.\nDie nachweislich ausgeschütteten Glückshormone aktivieren Körper\, Geist und Seele. Unser Körper wird optimal mit Sauerstoff versorgt. Stress und Anspannungen lösen sich. Lachen ist\nUrlaub für die Seele. Es ist für Jung und Alt eine wunderbare Möglichkeit\, Hektik aus Beruf und Alltag hinter sich zu lassen. Und lachend neue Kraft und Lebensfreude zu tanken.\nDie Lachyoga-Session dauert ca. eine Stunde und beinhaltet Lach-\, Klatsch\, Dehn- und Atemübungen\, eine Lachmeditation und eine angeleitete Entspannung. Ein kleine Einführung in das Lachyoga ist immer mit dabei. \nJeder kann mitmachen und mitlachen. \nZeit: jeden zweiten Montag im Monat 19:30 Uhr – 20:30 Uhr\nOrt: Yoga-Zen-trum im Kulturhaus – bei der Schänke zum schwarzen Schaf – Höchfelden 7\n94152 Neuhaus am Inn\nKursgebühr: 15\,- Euro / 5er Karte 50\,- Euro – Vereinsmitglieder 10\,- Euro/ 5er Karte 35\,- Euro\nDie Teilnehmerzahl ist begrenzt\, bitte rechtzeitig anmelden unter: Tel. 0179/24 36 222
URL:https://www.innskulturfenster.de/veranstaltung-detail/lachyoga-2/2023-03-13/
LOCATION:Yoga-Zen-Trum\, Höchfelden 7\, Neuhaus am Inn\, 94152\, Deutschland
CATEGORIES:LACHYoga,Workshop
ATTACH;FMTTYPE=image/webp:https://www.innskulturfenster.de/wp-content/uploads/2023/02/laugh-gede3b3fc9_1920-e1676390531467.webp
END:VEVENT
END:VCALENDAR